Workbook

Sheet Лист1
A1: Наименование | B1: Фото | C1: Категория | D1: Цена (₸) | E1: Ед. изм.
A2: Umag Стандарт 1 месяц | C2: UMAG | D2: 19900 | E2: услуга
A3: Umag Стандарт 3 месяц | C3: UMAG | D3: 53100 | E3: услуга
A4: Umag Стандарт 6 месяц | C4: UMAG | D4: 99600 | E4: услуга
A5: Umag Старт тариф | C5: UMAG | D5: 8800 | E5: услуга
A6: Umag касса | C6: UMAG | D6: 4900 | E6: услуга
A7: Umag склад | C7: UMAG | D7: 4900 | E7: услуга
A8: Установка и обучение | C8: UMAG | D8: 30000 | E8: услуга
A9: Выезд тех специалиста 7 | C9: UMAG | D9: 7000 | E9: услуга
A10: Выезд тех специалиста 9 | C10: UMAG | D10: 9000 | E10: услуга
A11: Выезд тех специалиста 15 | C11: UMAG | D11: 15000 | E11: услуга
A12: Выезд тех специалиста 25 | C12: UMAG | D12: 25000 | E12: услуга
A13: POS SYSTEM U100 (BLACK) (со встроенным дисплеем покупателя) (UMAG / AQPOS / WL) | C13: моноблоки | D13: 149000 | E13: шт
... A60: "ПРИНТЕР ЭТИКЕТОК XP-365B USB + LAN WHITE (UMAG / AQPOS / xPrinter)" | C60: ПРИНТЕРА ЭТИКЕТОК | D60: 32000 | E60: шт

Sheet Генератор КП
A1: Әби | B1: =77057017171 -> 77057017171 | C1: 14 октябрь | D1: Енис | E1: Ед_изм_заголовок | F1: Сумма_заголовок
B4: Фото | C4: Цена (₸) | D4: Кол-во | E4: Ед. изм. | F4: Сумма
A5: Umag Стандарт 1 месяц | C5: =IFERROR(VLOOKUP(A5, 'Лист1'!A:D, 4, FALSE), "") -> 19900 | D5: 1 | E5: =IFERROR(VLOOKUP(A5, 'Лист1'!A:E, 5, FALSE), "") -> услуга | F5: =C5*D5 -> 19900
A6: Установка и обучение | C6: =IFERROR(VLOOKUP(A6, 'Лист1'!A:D, 4, FALSE), "") -> 30000 | D6: 1 | E6: =IFERROR(VLOOKUP(A6, 'Лист1'!A:E, 5, FALSE), "") -> услуга | F6: =C6*D6 -> 30000
A7: POS SYSTEM U200 (BLACK) (с дисплеем покупателя) (UMAG / AQPOS / WL) | C7: =IFERROR(VLOOKUP(A7, 'Лист1'!A:D, 4, FALSE), "") -> 149000 | D7: 1 | E7: =IFERROR(VLOOKUP(A7, 'Лист1'!A:E, 5, FALSE), "") -> шт | F7: =C7*D7 -> 149000
A8: СКАНЕР 2D WIRED (UMAG / AQPOS) | C8: =IFERROR(VLOOKUP(A8, 'Лист1'!A:D, 4, FALSE), "") -> 14000 | D8: 1 | E8: =IFERROR(VLOOKUP(A8, 'Лист1'!A:E, 5, FALSE), "") -> шт | F8: =C8*D8 -> 14000
A9: ПРИНТЕР ЧЕКОВ XP58 BLACK (UMAG / AQPOS / xPrinter) | C9: =IFERROR(VLOOKUP(A9, 'Лист1'!A:D, 4, FALSE), "") -> 15000 | D9: 1 | E9: =IFERROR(VLOOKUP(A9, 'Лист1'!A:E, 5, FALSE), "") -> шт | F9: =C9*D9 -> 15000
A10: ДЕНЕЖНЫЙ ЯЩИК ER405 BLACK | C10: =IFERROR(VLOOKUP(A10, 'Лист1'!A:D, 4, FALSE), "") -> 21000 | D10: 1 | E10: =IFERROR(VLOOKUP(A10, 'Лист1'!A:E, 5, FALSE), "") -> шт | F10: =C10*D10 -> 21000
C11: =IFERROR(VLOOKUP(A11, 'Лист1'!A:D, 4, FALSE), "") | D11: 1 | E11: =IFERROR(VLOOKUP(A11, 'Лист1'!A:E, 5, FALSE), "") | F11: =C11*D11 -> 0
C12: =IFERROR(VLOOKUP(A12, 'Лист1'!A:D, 4, FALSE), "") | D12: 1 | E12: =IFERROR(VLOOKUP(A12, 'Лист1'!A:E, 5, FALSE), "") | F12: =C12*D12 -> 0
C13: =IFERROR(VLOOKUP(A13, 'Лист1'!A:D, 4, FALSE), "") | E13: =IFERROR(VLOOKUP(A13, 'Лист1'!A:E, 5, FALSE), "") | F13: =C13*D13 -> 0
C14: =IFERROR(VLOOKUP(A14, 'Лист1'!A:D, 4, FALSE), "") | E14: =IFERROR(VLOOKUP(A14, 'Лист1'!A:E, 5, FALSE), "") | F14: =C14*D14 -> 0
C15: =IFERROR(VLOOKUP(A15, 'Лист1'!A:D, 4, FALSE), "") | E15: =IFERROR(VLOOKUP(A15, 'Лист1'!A:E, 5, FALSE), "") | F15: =C15*D15 -> 0
C16: =IFERROR(VLOOKUP(A16, 'Лист1'!A:D, 4, FALSE), "") | E16: =IFERROR(VLOOKUP(A16, 'Лист1'!A:E, 5, FALSE), "") | F16: =C16*D16 -> 0
C17: =IFERROR(VLOOKUP(A17, 'Лист1'!A:D, 4, FALSE), "") | E17: =IFERROR(VLOOKUP(A17, 'Лист1'!A:E, 5, FALSE), "") | F17: =C17*D17 -> 0
C18: =IFERROR(VLOOKUP(A18, 'Лист1'!A:D, 4, FALSE), "") | E18: =IFERROR(VLOOKUP(A18, 'Лист1'!A:E, 5, FALSE), "") | F18: =C18*D18 -> 0
C19: =IFERROR(VLOOKUP(A19, 'Лист1'!A:D, 4, FALSE), "") | E19: =IFERROR(VLOOKUP(A19, 'Лист1'!A:E, 5, FALSE), "") | F19: =C19*D19 -> 0
C20: =IFERROR(VLOOKUP(A20, 'Лист1'!A:D, 4, FALSE), "") | E20: =IFERROR(VLOOKUP(A20, 'Лист1'!A:E, 5, FALSE), "") | F20: =C20*D20 -> 0
C21: итого сумма | D21: =SUM(D5:D20) -> 8 | F21: =SUM(F5:F20) -> 248900

Sheet DO NOT DELETE - AutoCrat Job Se
A1: Job ID | B1: Job Name | C1: Template ID | D1: Data Sheet ID | E1: Header Row | F1: First Data Row | G1: File Name | H1: File Type | I1: Share As | J1: Folders | K1: Dynamic Folder Reference | L1: Conditionals | M1: Mode | N1: Append Breaks | O1: Tags | P1: Run On Time Trigger | Q1: Time Trigger Frequency | R1: Run On Form Trigger | S1: Send Email And Share | T1: Email To | U1: Email CC | V1: Email BCC | W1: Email Reply To | X1: Email No Reply | Y1: Email Subject | Z1: Email Body | AA1: Prevent Resharing | AB1: Time Trigger Timestamp | AC1: Form Trigger Timestamp
